BEGIN:VCALENDAR
VERSION:2.0
PRODID:-//Angel Gabriel - ECPv6.15.15//NONSGML v1.0//EN
CALSCALE:GREGORIAN
METHOD:PUBLISH
X-WR-CALNAME:Angel Gabriel
X-ORIGINAL-URL:https://angelgabriel.insurancegls.com
X-WR-CALDESC:Events for Angel Gabriel
REFRESH-INTERVAL;VALUE=DURATION:PT1H
X-Robots-Tag:noindex
X-PUBLISHED-TTL:PT1H
BEGIN:VTIMEZONE
TZID:America/New_York
BEGIN:DAYLIGHT
TZOFFSETFROM:-0500
TZOFFSETTO:-0400
TZNAME:EDT
DTSTART:20240310T070000
END:DAYLIGHT
BEGIN:STANDARD
TZOFFSETFROM:-0400
TZOFFSETTO:-0500
TZNAME:EST
DTSTART:20241103T060000
END:STANDARD
BEGIN:DAYLIGHT
TZOFFSETFROM:-0500
TZOFFSETTO:-0400
TZNAME:EDT
DTSTART:20250309T070000
END:DAYLIGHT
BEGIN:STANDARD
TZOFFSETFROM:-0400
TZOFFSETTO:-0500
TZNAME:EST
DTSTART:20251102T060000
END:STANDARD
BEGIN:DAYLIGHT
TZOFFSETFROM:-0500
TZOFFSETTO:-0400
TZNAME:EDT
DTSTART:20260308T070000
END:DAYLIGHT
BEGIN:STANDARD
TZOFFSETFROM:-0400
TZOFFSETTO:-0500
TZNAME:EST
DTSTART:20261101T060000
END:STANDARD
END:VTIMEZONE
BEGIN:VEVENT
DTSTART;TZID=America/New_York:20250910T100000
DTEND;TZID=America/New_York:20250910T110000
DTSTAMP:20260424T051950
CREATED:20250909T161509Z
LAST-MODIFIED:20250910T161521Z
UID:10001278-1757498400-1757502000@angelgabriel.insurancegls.com
SUMMARY:UHC 2026 AEP Rollout
DESCRIPTION:
URL:https://angelgabriel.insurancegls.com/event/uhc-2026-aep-rollout/
END:VEVENT
BEGIN:VEVENT
DTSTART;TZID=America/New_York:20250910T110000
DTEND;TZID=America/New_York:20250910T120000
DTSTAMP:20260424T051950
CREATED:20250909T161509Z
LAST-MODIFIED:20250910T161521Z
UID:10001279-1757502000-1757505600@angelgabriel.insurancegls.com
SUMMARY:2026 MA/MAPD Product Training
DESCRIPTION:
URL:https://angelgabriel.insurancegls.com/event/2026-ma-mapd-product-training/
END:VEVENT
BEGIN:VEVENT
DTSTART;TZID=America/New_York:20250910T110000
DTEND;TZID=America/New_York:20250910T120000
DTSTAMP:20260424T051950
CREATED:20250909T161510Z
LAST-MODIFIED:20250910T161521Z
UID:10001281-1757502000-1757505600@angelgabriel.insurancegls.com
SUMMARY:The Brownwood Hotel3003 Brownwood Blvd\nThe Villages\, FL 32163
DESCRIPTION:
URL:https://angelgabriel.insurancegls.com/event/the-brownwood-hotel3003-brownwood-blvdthe-villages-fl-32163/
END:VEVENT
BEGIN:VEVENT
DTSTART;TZID=America/New_York:20250910T110000
DTEND;TZID=America/New_York:20250910T130000
DTSTAMP:20260424T051950
CREATED:20250909T161510Z
LAST-MODIFIED:20250910T161521Z
UID:10001280-1757502000-1757509200@angelgabriel.insurancegls.com
SUMMARY:Understanding the Generational Wealth transfer opportunity
DESCRIPTION:
URL:https://angelgabriel.insurancegls.com/event/understanding-the-generational-wealth-transfer-opportunity/
END:VEVENT
BEGIN:VEVENT
DTSTART;TZID=America/New_York:20250910T143000
DTEND;TZID=America/New_York:20250910T153000
DTSTAMP:20260424T051950
CREATED:20250822T111907Z
LAST-MODIFIED:20250910T161521Z
UID:10001269-1757514600-1757518200@angelgabriel.insurancegls.com
SUMMARY:North American: Wired for Wednesdays: Your Software Learning Hub
DESCRIPTION:
URL:https://angelgabriel.insurancegls.com/event/north-american-wired-for-wednesdays-your-software-learning-hub-3/
END:VEVENT
BEGIN:VEVENT
DTSTART;TZID=America/New_York:20250910T143000
DTEND;TZID=America/New_York:20250910T153000
DTSTAMP:20260424T051950
CREATED:20250909T161511Z
LAST-MODIFIED:20250910T161521Z
UID:10001282-1757514600-1757518200@angelgabriel.insurancegls.com
SUMMARY:Wired for Wednesdays: Your Software Learning Hub
DESCRIPTION:
URL:https://angelgabriel.insurancegls.com/event/wired-for-wednesdays-your-software-learning-hub/
END:VEVENT
BEGIN:VEVENT
DTSTART;TZID=America/New_York:20250910T150000
DTEND;TZID=America/New_York:20250910T160000
DTSTAMP:20260424T051950
CREATED:20250909T161511Z
LAST-MODIFIED:20250910T161522Z
UID:10001283-1757516400-1757520000@angelgabriel.insurancegls.com
SUMMARY:Exclusive Invitation: 2026 Product Overview
DESCRIPTION:
URL:https://angelgabriel.insurancegls.com/event/exclusive-invitation-2026-product-overview/
END:VEVENT
BEGIN:VEVENT
DTSTART;TZID=America/New_York:20250910T183000
DTEND;TZID=America/New_York:20250910T193000
DTSTAMP:20260424T051950
CREATED:20250909T161511Z
LAST-MODIFIED:20250910T161522Z
UID:10001284-1757529000-1757532600@angelgabriel.insurancegls.com
SUMMARY:Selling F&G IUL’s: Product Positioning
DESCRIPTION:
URL:https://angelgabriel.insurancegls.com/event/selling-fg-iuls-product-positioning/
END:VEVENT
END:VCALENDAR