BEGIN:VCALENDAR
VERSION:2.0
PRODID:-//Angel Gabriel - ECPv6.15.15//NONSGML v1.0//EN
CALSCALE:GREGORIAN
METHOD:PUBLISH
X-ORIGINAL-URL:https://angelgabriel.insurancegls.com
X-WR-CALDESC:Events for Angel Gabriel
REFRESH-INTERVAL;VALUE=DURATION:PT1H
X-Robots-Tag:noindex
X-PUBLISHED-TTL:PT1H
BEGIN:VTIMEZONE
TZID:America/New_York
BEGIN:DAYLIGHT
TZOFFSETFROM:-0500
TZOFFSETTO:-0400
TZNAME:EDT
DTSTART:20240310T070000
END:DAYLIGHT
BEGIN:STANDARD
TZOFFSETFROM:-0400
TZOFFSETTO:-0500
TZNAME:EST
DTSTART:20241103T060000
END:STANDARD
BEGIN:DAYLIGHT
TZOFFSETFROM:-0500
TZOFFSETTO:-0400
TZNAME:EDT
DTSTART:20250309T070000
END:DAYLIGHT
BEGIN:STANDARD
TZOFFSETFROM:-0400
TZOFFSETTO:-0500
TZNAME:EST
DTSTART:20251102T060000
END:STANDARD
BEGIN:DAYLIGHT
TZOFFSETFROM:-0500
TZOFFSETTO:-0400
TZNAME:EDT
DTSTART:20260308T070000
END:DAYLIGHT
BEGIN:STANDARD
TZOFFSETFROM:-0400
TZOFFSETTO:-0500
TZNAME:EST
DTSTART:20261101T060000
END:STANDARD
END:VTIMEZONE
BEGIN:VEVENT
DTSTART;TZID=America/New_York:20250908T120000
DTEND;TZID=America/New_York:20250908T130000
DTSTAMP:20260420T040054
CREATED:20250822T111906Z
LAST-MODIFIED:20250908T161352Z
UID:10001267-1757332800-1757336400@angelgabriel.insurancegls.com
SUMMARY:Allstate Health Solutions + Health Sherpa: Learn how you can build ACA + Allstate Supplemental bundles on your AHS Sales Site
DESCRIPTION:
URL:https://angelgabriel.insurancegls.com/event/allstate-health-solutions-health-sherpa-learn-how-you-can-build-aca-allstate-supplemental-bundles-on-your-ahs-sales-site/
END:VEVENT
END:VCALENDAR