BEGIN:VCALENDAR
VERSION:2.0
PRODID:-//Angel Gabriel - ECPv6.15.15//NONSGML v1.0//EN
CALSCALE:GREGORIAN
METHOD:PUBLISH
X-WR-CALNAME:Angel Gabriel
X-ORIGINAL-URL:https://angelgabriel.insurancegls.com
X-WR-CALDESC:Events for Angel Gabriel
REFRESH-INTERVAL;VALUE=DURATION:PT1H
X-Robots-Tag:noindex
X-PUBLISHED-TTL:PT1H
BEGIN:VTIMEZONE
TZID:America/New_York
BEGIN:DAYLIGHT
TZOFFSETFROM:-0500
TZOFFSETTO:-0400
TZNAME:EDT
DTSTART:20240310T070000
END:DAYLIGHT
BEGIN:STANDARD
TZOFFSETFROM:-0400
TZOFFSETTO:-0500
TZNAME:EST
DTSTART:20241103T060000
END:STANDARD
BEGIN:DAYLIGHT
TZOFFSETFROM:-0500
TZOFFSETTO:-0400
TZNAME:EDT
DTSTART:20250309T070000
END:DAYLIGHT
BEGIN:STANDARD
TZOFFSETFROM:-0400
TZOFFSETTO:-0500
TZNAME:EST
DTSTART:20251102T060000
END:STANDARD
BEGIN:DAYLIGHT
TZOFFSETFROM:-0500
TZOFFSETTO:-0400
TZNAME:EDT
DTSTART:20260308T070000
END:DAYLIGHT
BEGIN:STANDARD
TZOFFSETFROM:-0400
TZOFFSETTO:-0500
TZNAME:EST
DTSTART:20261101T060000
END:STANDARD
END:VTIMEZONE
BEGIN:VEVENT
DTSTART;TZID=America/New_York:20250826T110000
DTEND;TZID=America/New_York:20250826T120000
DTSTAMP:20260424T041049
CREATED:20250806T203457Z
LAST-MODIFIED:20250826T144822Z
UID:10001246-1756206000-1756209600@angelgabriel.insurancegls.com
SUMMARY:Wellabe | Medico: Tuesday Talks
DESCRIPTION:
URL:https://angelgabriel.insurancegls.com/event/wellabe-medico-tuesday-talks-2/
END:VEVENT
BEGIN:VEVENT
DTSTART;TZID=America/New_York:20250826T110000
DTEND;TZID=America/New_York:20250826T120000
DTSTAMP:20260424T041049
CREATED:20250822T111903Z
LAST-MODIFIED:20250826T144822Z
UID:10001262-1756206000-1756209600@angelgabriel.insurancegls.com
SUMMARY:UnitedHealthcare: New Agent Training
DESCRIPTION:
URL:https://angelgabriel.insurancegls.com/event/unitedhealthcare-new-agent-training/
END:VEVENT
BEGIN:VEVENT
DTSTART;TZID=America/New_York:20250826T130000
DTEND;TZID=America/New_York:20250826T140000
DTSTAMP:20260424T041049
CREATED:20250727T160954Z
LAST-MODIFIED:20250826T144822Z
UID:10001188-1756213200-1756216800@angelgabriel.insurancegls.com
SUMMARY:National Life Group: Control Your IRA Legacy: Addressing “Trust” Issues
DESCRIPTION:
URL:https://angelgabriel.insurancegls.com/event/national-life-group-control-your-ira-legacy-addressing-trust-issues/
END:VEVENT
BEGIN:VEVENT
DTSTART;TZID=America/New_York:20250826T150000
DTEND;TZID=America/New_York:20250826T160000
DTSTAMP:20260424T041049
CREATED:20250806T203458Z
LAST-MODIFIED:20250826T144823Z
UID:10001247-1756220400-1756224000@angelgabriel.insurancegls.com
SUMMARY:UnitedHealthcare: Growing your Sales with Enhanced Health ProtectorGuard
DESCRIPTION:
URL:https://angelgabriel.insurancegls.com/event/unitedhealthcare-growing-your-sales-with-enhanced-health-protectorguard/
END:VEVENT
BEGIN:VEVENT
DTSTART;TZID=America/New_York:20250826T160000
DTEND;TZID=America/New_York:20250826T170000
DTSTAMP:20260424T041049
CREATED:20250727T160954Z
LAST-MODIFIED:20250826T144823Z
UID:10001189-1756224000-1756227600@angelgabriel.insurancegls.com
SUMMARY:Anthem: New York Anthem BlueCross BlueShield 2026 AEP Virtual Roadshow!
DESCRIPTION:
URL:https://angelgabriel.insurancegls.com/event/anthem-new-york-anthem-bluecross-blueshield-2026-aep-virtual-roadshow-3/
END:VEVENT
BEGIN:VEVENT
DTSTART;TZID=America/New_York:20250826T160000
DTEND;TZID=America/New_York:20250826T170000
DTSTAMP:20260424T041049
CREATED:20250727T160954Z
LAST-MODIFIED:20250727T160954Z
UID:10001190-1756224000-1756227600@angelgabriel.insurancegls.com
SUMMARY:Anthem: New York Anthem BlueCross BlueShield 2026 AEP Virtual Roadshow!
DESCRIPTION:
URL:https://angelgabriel.insurancegls.com/event/anthem-new-york-anthem-bluecross-blueshield-2026-aep-virtual-roadshow-4/
END:VEVENT
END:VCALENDAR